45.904907410872610
17.335590089623356
17.613741199326565
-46.007185180493835
1409888.7546058104
878150.48902315053
