44.954035525221826
16.899185932997369
16.904269500370251
-44.998842353483617
1372976.3159385908
984983.14702006860
