45.344472147341250
15.537625924158389
15.574001967408135
-45.421890029148514
1275621.5045682057
892123.34828057792
