45.358172908278782
15.485282030093048
15.549854191576362
-45.552511871705512
1239581.8431690710
997493.69853252964
