44.032374115584751
14.301975922421761
14.442871875002107
-44.333639745828492
1149179.0703640732
1086615.8963885810
