53.200876009296664
0.000000000000000
0.000000000000000
-53.206930287550534
888806.490404616460000
1190037.209962136100000
