43.160461258410805
10.481014231701433
10.486867999786725
-43.611502140310584
815548.17867637449
1228897.7352882347
