51.142155244179790
10.605428108192241
10.786342180349838
-51.672931884332250
678304.07513431227
1256611.0659731121
